BEGIN:VCALENDAR
VERSION:2.0
PRODID:-//Mindpark - ECPv6.15.20//NONSGML v1.0//EN
CALSCALE:GREGORIAN
METHOD:PUBLISH
X-ORIGINAL-URL:https://mindpark.se/en
X-WR-CALDESC:Events for Mindpark
REFRESH-INTERVAL;VALUE=DURATION:PT1H
X-Robots-Tag:noindex
X-PUBLISHED-TTL:PT1H
BEGIN:VTIMEZONE
TZID:Europe/Paris
BEGIN:DAYLIGHT
TZOFFSETFROM:+0100
TZOFFSETTO:+0200
TZNAME:CEST
DTSTART:20220327T010000
END:DAYLIGHT
BEGIN:STANDARD
TZOFFSETFROM:+0200
TZOFFSETTO:+0100
TZNAME:CET
DTSTART:20221030T010000
END:STANDARD
BEGIN:DAYLIGHT
TZOFFSETFROM:+0100
TZOFFSETTO:+0200
TZNAME:CEST
DTSTART:20230326T010000
END:DAYLIGHT
BEGIN:STANDARD
TZOFFSETFROM:+0200
TZOFFSETTO:+0100
TZNAME:CET
DTSTART:20231029T010000
END:STANDARD
BEGIN:DAYLIGHT
TZOFFSETFROM:+0100
TZOFFSETTO:+0200
TZNAME:CEST
DTSTART:20240331T010000
END:DAYLIGHT
BEGIN:STANDARD
TZOFFSETFROM:+0200
TZOFFSETTO:+0100
TZNAME:CET
DTSTART:20241027T010000
END:STANDARD
END:VTIMEZONE
BEGIN:VEVENT
DTSTART;TZID=Europe/Paris:20231218T090000
DTEND;TZID=Europe/Paris:20231218T100000
DTSTAMP:20260419T115146
CREATED:20231201T100010Z
LAST-MODIFIED:20231201T132916Z
UID:233925-1702890000-1702893600@mindpark.se
SUMMARY:Coworkingfrukost - Göteborg Järntorget
DESCRIPTION:Vi älskar frukost\, särskilt när vi äter den tillsammans med våra coworkers! Klockan 9.00 en gång i månaden har vi frukost för våra coworkers. Och du som är coworker kan joina vilken av våra frukostar du vill – så det är fritt fram att kika in på frukosten på valfritt workspace. Vi ses!
URL:https://mindpark.se/en/event/coworkingfrukost-goteborg-jarntorget-3/
LOCATION:Mindpark Göteborg Järntorget\, Masthamnsgatan 3\, Göteborg\, 41327
ATTACH;FMTTYPE=image/jpeg:https://mindpark.se/wp-content/uploads/2023/08/Eventhero_julfrukost_500x350px.jpg
END:VEVENT
END:VCALENDAR